BEGIN:VCALENDAR
PRODID:-//kirchenweb.ch gmbh//veranstaltungsausgabe v2.0//DE
VERSION:2.0
METHOD:PUBLISH
BEGIN:VEVENT
DTSTART:20260517T094500Z
DTEND:20260517T104500Z
LOCATION:Pfarrkirche Oberägeri\, \,
TRANSP:OPAQUE
SEQUENCE:0
UID:18292-veranstaltung@pfarrei-oberaegeri.ch
DTSTAMP:20260408T050604Z
DESCRIPTION:Taufspender: Mario Stöckli\, Gemeindeleiter\n\nKontakt:
  klara.burkart@pfarrei-oberaegeri.ch\n\nWeitere Infos:
  https://www.pfarrei-oberaegeri.ch/veranstaltung/18292
SUMMARY:Taufe von Andrina Müller
PRIORITY:5
X-MICROSOFT-CDO-IMPORTANCE:1
CLASS:PUBLIC
END:VEVENT
END:VCALENDAR
