BEGIN:VCALENDAR
PRODID:-//kirchenweb.ch gmbh//veranstaltungsausgabe v2.0//DE
VERSION:2.0
METHOD:PUBLISH
BEGIN:VEVENT
DTSTART:20260505T073000Z
DTEND:20260505T083000Z
LOCATION:Pfarrkirche Oberägeri\, \,
TRANSP:OPAQUE
SEQUENCE:0
UID:18144-veranstaltung@pfarrei-oberaegeri.ch
DTSTAMP:20260203T104846Z
DESCRIPTION:anschliessend Kaffee und Sirup im Pfarreizentrum Hofstettli\n
 \nKontakt: klara.burkart@pfarrei-oberaegeri.ch\n\nWeitere Infos:
  https://www.pfarrei-oberaegeri.ch/veranstaltung/18144
SUMMARY:Chlichinderfiir
PRIORITY:5
X-MICROSOFT-CDO-IMPORTANCE:1
CLASS:PUBLIC
END:VEVENT
END:VCALENDAR
