BEGIN:VCALENDAR
PRODID:-//kirchenweb.ch gmbh//veranstaltungsausgabe v2.0//DE
VERSION:2.0
METHOD:PUBLISH
BEGIN:VEVENT
DTSTART:20260424T170000Z
DTEND:20260424T180000Z
LOCATION:Pfarrkirche Oberägeri\, \,
TRANSP:OPAQUE
SEQUENCE:0
UID:17565-veranstaltung@pfarrei-oberaegeri.ch
DTSTAMP:20260105T073106Z
DESCRIPTION:Kontakt: klara.burkart@pfarrei-oberaegeri.ch\n\nWeitere Infos:
  https://www.pfarrei-oberaegeri.ch/veranstaltung/17565
SUMMARY:Rosenkranz
PRIORITY:5
X-MICROSOFT-CDO-IMPORTANCE:1
CLASS:PUBLIC
END:VEVENT
END:VCALENDAR
