BEGIN:VCALENDAR
PRODID:-//kirchenweb.ch gmbh//veranstaltungsausgabe v2.0//DE
VERSION:2.0
METHOD:PUBLISH
BEGIN:VEVENT
DTSTART:20250302T093000Z
DTEND:20250302T103000Z
LOCATION:Pfarrkirche Oberägeri\, \,
TRANSP:OPAQUE
SEQUENCE:0
UID:16361-veranstaltung@pfarrei-oberaegeri.ch
DTSTAMP:20250113T080950Z
DESCRIPTION:Kontakt: klara.burkart@pfarrei-oberaegeri.ch\n\nWeitere Infos:
  https://www.pfarrei-oberaegeri.ch/veranstaltung/16361
SUMMARY:Dreissigster für Monika Flück-Spuhler\, Holderbachweg 18\,
  Oberägeri
PRIORITY:5
X-MICROSOFT-CDO-IMPORTANCE:1
CLASS:PUBLIC
END:VEVENT
END:VCALENDAR
