BEGIN:VCALENDAR
PRODID:-//kirchenweb.ch gmbh//veranstaltungsausgabe v2.0//DE
VERSION:2.0
METHOD:PUBLISH
BEGIN:VEVENT
DTSTART;VALUE=DATE:20260614
DTEND;VALUE=DATE:20260615
LOCATION:Vituskirche Morgarten\, \,
TRANSP:OPAQUE
SEQUENCE:0
UID:15931-veranstaltung@pfarrei-oberaegeri.ch
DTSTAMP:20260304T055906Z
DESCRIPTION:Kontakt: klara.burkart@pfarrei-oberaegeri.ch\n\nWeitere Infos:
  https://www.pfarrei-oberaegeri.ch/veranstaltung/15931
SUMMARY:kein Sonntagsgottesdienst
PRIORITY:5
X-MICROSOFT-CDO-IMPORTANCE:1
CLASS:PUBLIC
END:VEVENT
END:VCALENDAR
