BEGIN:VCALENDAR
PRODID:-//kirchenweb.ch gmbh//veranstaltungsausgabe v2.0//DE
VERSION:2.0
METHOD:PUBLISH
BEGIN:VEVENT
DTSTART:20250329T090000Z
DTEND:20250329T100000Z
LOCATION:Sonnenhof Unterägeri\, \,
TRANSP:OPAQUE
SEQUENCE:0
UID:15926-veranstaltung@pfarrei-oberaegeri.ch
DTSTAMP:20241202T064028Z
DESCRIPTION:Kontakt: klara.burkart@pfarrei-oberaegeri.ch\n\nWeitere Infos:
  https://www.pfarrei-oberaegeri.ch/veranstaltung/15926
SUMMARY:«Kirche Kunterbunt»
PRIORITY:5
X-MICROSOFT-CDO-IMPORTANCE:1
CLASS:PUBLIC
END:VEVENT
END:VCALENDAR
