BEGIN:VCALENDAR
PRODID:-//kirchenweb.ch gmbh//veranstaltungsausgabe v2.0//DE
VERSION:2.0
METHOD:PUBLISH
BEGIN:VEVENT
DTSTART:20250716T070000Z
DTEND:20250716T080000Z
LOCATION:Michaelskapelle Oberägeri\, \,
TRANSP:OPAQUE
SEQUENCE:0
UID:15567-veranstaltung@pfarrei-oberaegeri.ch
DTSTAMP:20250401T060653Z
DESCRIPTION:Eucharistiefeier\n\nKontakt:
  klara.burkart@pfarrei-oberaegeri.ch\n\nWeitere Infos:
  https://www.pfarrei-oberaegeri.ch/veranstaltung/15567
SUMMARY:Gottesdienst
PRIORITY:5
X-MICROSOFT-CDO-IMPORTANCE:1
CLASS:PUBLIC
END:VEVENT
END:VCALENDAR
