BEGIN:VCALENDAR
PRODID:-//kirchenweb.ch gmbh//veranstaltungsausgabe v2.0//DE
VERSION:2.0
METHOD:PUBLISH
BEGIN:VEVENT
DTSTART:20250906T163000Z
DTEND:20250906T173000Z
LOCATION:Josefskirche Alosen\, \,
TRANSP:OPAQUE
SEQUENCE:0
UID:15357-veranstaltung@pfarrei-oberaegeri.ch
DTSTAMP:20250612T062607Z
DESCRIPTION:Eucharistiefeier\n\nKontakt:
  klara.burkart@pfarrei-oberaegeri.ch\n\nWeitere Infos:
  https://www.pfarrei-oberaegeri.ch/veranstaltung/15357
SUMMARY:Vorabendgottesdienst
PRIORITY:5
X-MICROSOFT-CDO-IMPORTANCE:1
CLASS:PUBLIC
END:VEVENT
END:VCALENDAR
